BEGIN:VCALENDAR
VERSION:2.0
X-WR-CALNAME: Upcoming shows
PRODID:GIGPRESS 2.0 WORDPRESS PLUGIN
CALSCALE:GREGORIAN
X-WR-TIMEZONE:Etc/GMT
METHOD:PUBLISH
BEGIN:VTIMEZONE
TZID:GMT
BEGIN:STANDARD
DTSTART:20071028T010000
TZOFFSETTO:+0000
TZOFFSETFROM:+0000
END:STANDARD
END:VTIMEZONE
BEGIN:VEVENT
SUMMARY:Briana Maia at Blackstone
DESCRIPTION:All Ages
LOCATION:Blackstone\, Southington\, CT\, US
UID:20260424T230000Z-467-toaguitarist@gmail.com
URL:http://www.andysorensonmusic.com/live
DTSTART;VALUE=DATE-TIME;TZID=GMT:20260424T230000Z
DTEND;VALUE=DATE-TIME;TZID=GMT:20260424T230000Z
DTSTAMP:20260423T031339Z
END:VEVENT
BEGIN:VEVENT
SUMMARY:Brandon Serafino at The Living Room at Theaterworks
DESCRIPTION:All Ages
LOCATION:The Living Room at Theaterworks\, Hartford\, CT\, US
UID:20260430T230000Z-468-toaguitarist@gmail.com
URL:http://www.andysorensonmusic.com/live
DTSTART;VALUE=DATE-TIME;TZID=GMT:20260430T230000Z
DTEND;VALUE=DATE-TIME;TZID=GMT:20260430T230000Z
DTSTAMP:20260423T031339Z
END:VEVENT
END:VCALENDAR